BEGIN:VCALENDAR
VERSION:2.0
PRODID:-//Center for Relational Health - Las Vegas - ECPv6.15.20//NONSGML v1.0//EN
CALSCALE:GREGORIAN
METHOD:PUBLISH
X-WR-CALNAME:Center for Relational Health - Las Vegas
X-ORIGINAL-URL:https://relationalhealth-lv.org
X-WR-CALDESC:Events for Center for Relational Health - Las Vegas
REFRESH-INTERVAL;VALUE=DURATION:PT1H
X-Robots-Tag:noindex
X-PUBLISHED-TTL:PT1H
BEGIN:VTIMEZONE
TZID:America/Los_Angeles
BEGIN:DAYLIGHT
TZOFFSETFROM:-0800
TZOFFSETTO:-0700
TZNAME:PDT
DTSTART:20200308T100000
END:DAYLIGHT
BEGIN:STANDARD
TZOFFSETFROM:-0700
TZOFFSETTO:-0800
TZNAME:PST
DTSTART:20201101T090000
END:STANDARD
BEGIN:DAYLIGHT
TZOFFSETFROM:-0800
TZOFFSETTO:-0700
TZNAME:PDT
DTSTART:20210314T100000
END:DAYLIGHT
BEGIN:STANDARD
TZOFFSETFROM:-0700
TZOFFSETTO:-0800
TZNAME:PST
DTSTART:20211107T090000
END:STANDARD
BEGIN:DAYLIGHT
TZOFFSETFROM:-0800
TZOFFSETTO:-0700
TZNAME:PDT
DTSTART:20220313T100000
END:DAYLIGHT
BEGIN:STANDARD
TZOFFSETFROM:-0700
TZOFFSETTO:-0800
TZNAME:PST
DTSTART:20221106T090000
END:STANDARD
BEGIN:DAYLIGHT
TZOFFSETFROM:-0800
TZOFFSETTO:-0700
TZNAME:PDT
DTSTART:20230312T100000
END:DAYLIGHT
BEGIN:STANDARD
TZOFFSETFROM:-0700
TZOFFSETTO:-0800
TZNAME:PST
DTSTART:20231105T090000
END:STANDARD
END:VTIMEZONE
BEGIN:VEVENT
DTSTART;TZID=America/Los_Angeles:20220622T183000
DTEND;TZID=America/Los_Angeles:20220622T203000
DTSTAMP:20260422T095407
CREATED:20220209T205905Z
LAST-MODIFIED:20220209T205905Z
UID:3466-1655922600-1655929800@relationalhealth-lv.org
SUMMARY:LEAD Class
DESCRIPTION:
URL:https://relationalhealth-lv.org/event/lead-class-7/
END:VEVENT
BEGIN:VEVENT
DTSTART;TZID=America/Los_Angeles:20220615T183000
DTEND;TZID=America/Los_Angeles:20220615T203000
DTSTAMP:20260422T095407
CREATED:20220209T205842Z
LAST-MODIFIED:20220209T205842Z
UID:3464-1655317800-1655325000@relationalhealth-lv.org
SUMMARY:LEAD Class
DESCRIPTION:
URL:https://relationalhealth-lv.org/event/lead-class-6/
END:VEVENT
BEGIN:VEVENT
DTSTART;TZID=America/Los_Angeles:20220608T183000
DTEND;TZID=America/Los_Angeles:20220608T203000
DTSTAMP:20260422T095407
CREATED:20220209T205818Z
LAST-MODIFIED:20220209T205818Z
UID:3462-1654713000-1654720200@relationalhealth-lv.org
SUMMARY:LEAD Class
DESCRIPTION:
URL:https://relationalhealth-lv.org/event/lead-class-5/
END:VEVENT
BEGIN:VEVENT
DTSTART;TZID=America/Los_Angeles:20220601T183000
DTEND;TZID=America/Los_Angeles:20220601T203000
DTSTAMP:20260422T095407
CREATED:20220209T205754Z
LAST-MODIFIED:20220209T205754Z
UID:3460-1654108200-1654115400@relationalhealth-lv.org
SUMMARY:LEAD Class
DESCRIPTION:
URL:https://relationalhealth-lv.org/event/lead-class-4/
END:VEVENT
BEGIN:VEVENT
DTSTART;TZID=America/Los_Angeles:20220525T183000
DTEND;TZID=America/Los_Angeles:20220525T203000
DTSTAMP:20260422T095407
CREATED:20220209T205656Z
LAST-MODIFIED:20220209T205656Z
UID:3457-1653503400-1653510600@relationalhealth-lv.org
SUMMARY:LEAD Class
DESCRIPTION:
URL:https://relationalhealth-lv.org/event/lead-class-3/
END:VEVENT
BEGIN:VEVENT
DTSTART;TZID=America/Los_Angeles:20220518T183000
DTEND;TZID=America/Los_Angeles:20220518T203000
DTSTAMP:20260422T095407
CREATED:20220209T205625Z
LAST-MODIFIED:20220209T205625Z
UID:3455-1652898600-1652905800@relationalhealth-lv.org
SUMMARY:LEAD Class
DESCRIPTION:
URL:https://relationalhealth-lv.org/event/lead-class-2/
END:VEVENT
BEGIN:VEVENT
DTSTART;TZID=America/Los_Angeles:20220511T183000
DTEND;TZID=America/Los_Angeles:20220511T203000
DTSTAMP:20260422T095407
CREATED:20220209T205553Z
LAST-MODIFIED:20220209T205553Z
UID:3453-1652293800-1652301000@relationalhealth-lv.org
SUMMARY:LEAD Class
DESCRIPTION:
URL:https://relationalhealth-lv.org/event/lead-class/
END:VEVENT
BEGIN:VEVENT
DTSTART;VALUE=DATE:20220428
DTEND;VALUE=DATE:20220501
DTSTAMP:20260422T095407
CREATED:20220209T205410Z
LAST-MODIFIED:20220209T205410Z
UID:3450-1651104000-1651363199@relationalhealth-lv.org
SUMMARY:Dare to Lead
DESCRIPTION:
URL:https://relationalhealth-lv.org/event/dare-to-lead-2/
LOCATION:Avenue Church
END:VEVENT
BEGIN:VEVENT
DTSTART;VALUE=DATE:20220421
DTEND;VALUE=DATE:20220424
DTSTAMP:20260422T095407
CREATED:20220209T205315Z
LAST-MODIFIED:20220209T205315Z
UID:3447-1650499200-1650758399@relationalhealth-lv.org
SUMMARY:Dare to Lead
DESCRIPTION:
URL:https://relationalhealth-lv.org/event/dare-to-lead/
LOCATION:O&P Insight
END:VEVENT
BEGIN:VEVENT
DTSTART;VALUE=DATE:20220407
DTEND;VALUE=DATE:20220408
DTSTAMP:20260422T095407
CREATED:20220209T205059Z
LAST-MODIFIED:20220209T205059Z
UID:3445-1649289600-1649375999@relationalhealth-lv.org
SUMMARY:Mastermind Group
DESCRIPTION:
URL:https://relationalhealth-lv.org/event/mastermind-group/
END:VEVENT
BEGIN:VEVENT
DTSTART;TZID=America/Los_Angeles:20220318T093000
DTEND;TZID=America/Los_Angeles:20220318T110000
DTSTAMP:20260422T095407
CREATED:20211122T212811Z
LAST-MODIFIED:20220103T221837Z
UID:1413-1647595800-1647601200@relationalhealth-lv.org
SUMMARY:Propelling Women Workshop Series
DESCRIPTION:Coffee and Curiosity will reveal your story! \nHow can 2022 be the year you build trustworthy relationships\, gain clarity of values\, and emerge as a wholehearted leader? \nEnroll in 1 or all 3 workshops! Seating is limited – sign up before it fills up! \nJanuary Workshop \nHow to build trust in all your relationships\, including your self-trust and the clear path to communicate to others when there has been a violation of trust. \nFebruary Workshop \nSetting core values professionally and personally and tips on how to live into those values. How do we know we are doing it right\, and what happens when we are in chaos? \nMarch Workshop \nHow do you show up as Daring Leaders vs. an armored leader?
URL:https://relationalhealth-lv.org/event/propelling-women-workshop-series-3/
END:VEVENT
BEGIN:VEVENT
DTSTART;TZID=America/Los_Angeles:20220313T080000
DTEND;TZID=America/Los_Angeles:20220313T150000
DTSTAMP:20260422T095407
CREATED:20211229T004900Z
LAST-MODIFIED:20220209T203151Z
UID:2345-1647158400-1647183600@relationalhealth-lv.org
SUMMARY:Girl Go Get It Conference
DESCRIPTION:It’s TIME to GET & LIVE the LIFE God has called us to live!\n\n\nTo every thing there is a season\, and a time to every purpose under the heaven: A time to be born\, and a time to die; a time to plant\, and a time to pluck up that which is planted; A time to kill\, and a time to heal; a time to break down\, and a time to build up; A time to weep\, and a time to laugh; a time to mourn\, and a time to dance; A time to cast away stones\, and a time to gather stones together; a time to embrace\, and a time to refrain from embracing; A time to get\, and a time to lose; a time to keep\, and a time to cast away; A time to rend\, and a time to sew; a time to keep silence\, and a time to speak\, Ecclesiastes: 1-7 \n \n  \n\n 
URL:https://relationalhealth-lv.org/event/girl-go-get-it-conference/
LOCATION:Good Samaritan Church\, 8425 Windmill Lane\, Las Vegas\, NV\, 89113
END:VEVENT
BEGIN:VEVENT
DTSTART;TZID=America/Los_Angeles:20220302T133000
DTEND;TZID=America/Los_Angeles:20220302T150000
DTSTAMP:20260422T095407
CREATED:20220209T204805Z
LAST-MODIFIED:20220209T204805Z
UID:3442-1646227800-1646233200@relationalhealth-lv.org
SUMMARY:Dare to Lead Workshop
DESCRIPTION:
URL:https://relationalhealth-lv.org/event/dare-to-lead-workshop/
LOCATION:Faith Lutheran
END:VEVENT
BEGIN:VEVENT
DTSTART;TZID=America/Los_Angeles:20220228T163000
DTEND;TZID=America/Los_Angeles:20220228T180000
DTSTAMP:20260422T095407
CREATED:20211228T072444Z
LAST-MODIFIED:20220209T204601Z
UID:2313-1646065800-1646071200@relationalhealth-lv.org
SUMMARY:NASA's 2022 Virtual Winter Conference: Educating the Whole Child
DESCRIPTION:CRH-LV will be presenting a workshop on “How to Soar When We are Hurting” on February 28th\, 2022 4:30pm-6:00pm!  If you are an educator or admistrator\, check out this conference. It runs after school hours from January 31st-February 28th!
URL:https://relationalhealth-lv.org/event/nasas-2022-virtual-winter-conference-educating-the-whole-child/
LOCATION:Virtual
END:VEVENT
BEGIN:VEVENT
DTSTART;TZID=America/Los_Angeles:20220226T100000
DTEND;TZID=America/Los_Angeles:20220226T120000
DTSTAMP:20260422T095407
CREATED:20220209T204348Z
LAST-MODIFIED:20220209T204348Z
UID:3437-1645869600-1645876800@relationalhealth-lv.org
SUMMARY:The Holistic Us
DESCRIPTION:Spiritually & Socially Acceptable Grit\, Grace\, Glory!
URL:https://relationalhealth-lv.org/event/the-holistic-us/
LOCATION:Community Baptist Church\, 245 E. Foster Ave\, Las Vegas\, NV\, 89011\, United States
END:VEVENT
BEGIN:VEVENT
DTSTART;TZID=America/Los_Angeles:20220223T090000
DTEND;TZID=America/Los_Angeles:20220223T100000
DTSTAMP:20260422T095407
CREATED:20220209T042154Z
LAST-MODIFIED:20220209T203256Z
UID:3406-1645606800-1645610400@relationalhealth-lv.org
SUMMARY:Nevada Preparedness Summit
DESCRIPTION:
URL:https://relationalhealth-lv.org/event/nevada-preparedness-summit/
LOCATION:M Resort\, 12300 Las Vegas Blvd\, Las Vegas\, NV\, 89044\, United States
END:VEVENT
BEGIN:VEVENT
DTSTART;VALUE=DATE:20220219
DTEND;VALUE=DATE:20220220
DTSTAMP:20260422T095407
CREATED:20211204T042705Z
LAST-MODIFIED:20211204T042705Z
UID:1692-1645228800-1645315199@relationalhealth-lv.org
SUMMARY:Dare to Lead™ Intensive
DESCRIPTION:
URL:https://relationalhealth-lv.org/event/dare-to-lead-intensive-2/
END:VEVENT
BEGIN:VEVENT
DTSTART;TZID=America/Los_Angeles:20220218T113000
DTEND;TZID=America/Los_Angeles:20220218T170000
DTSTAMP:20260422T095407
CREATED:20211204T042637Z
LAST-MODIFIED:20211204T042637Z
UID:1690-1645183800-1645203600@relationalhealth-lv.org
SUMMARY:Dare to Lead™ Intensive
DESCRIPTION:
URL:https://relationalhealth-lv.org/event/dare-to-lead-intensive/
END:VEVENT
BEGIN:VEVENT
DTSTART;TZID=America/Los_Angeles:20220218T093000
DTEND;TZID=America/Los_Angeles:20220218T110000
DTSTAMP:20260422T095407
CREATED:20211122T212716Z
LAST-MODIFIED:20211204T042936Z
UID:1411-1645176600-1645182000@relationalhealth-lv.org
SUMMARY:Propelling Women Workshop Series
DESCRIPTION:Coffee and Curiosity will reveal your story! \nHow can 2022 be the year you build trustworthy relationships\, gain clarity of values\, and emerge as a wholehearted leader? \nEnroll in 1 or all 3 workshops! Seating is limited – sign up before it fills up! \nJanuary Workshop \nHow to build trust in all your relationships\, including your self-trust and the clear path to communicate to others when there has been a violation of trust. \nFebruary Workshop \nSetting core values professionally and personally and tips on how to live into those values. How do we know we are doing it right\, and what happens when we are in chaos? \nMarch Workshop \nHow do you show up as Daring Leaders vs. an armored leader?
URL:https://relationalhealth-lv.org/event/propelling-women-workshop-series-2/
END:VEVENT
BEGIN:VEVENT
DTSTART;TZID=America/Los_Angeles:20220212T100000
DTEND;TZID=America/Los_Angeles:20220212T120000
DTSTAMP:20260422T095407
CREATED:20211228T043302Z
LAST-MODIFIED:20220209T202917Z
UID:2307-1644660000-1644667200@relationalhealth-lv.org
SUMMARY:Dad Inc.
DESCRIPTION:
URL:https://relationalhealth-lv.org/event/dad-inc-2/
END:VEVENT
BEGIN:VEVENT
DTSTART;TZID=America/Los_Angeles:20220210T180000
DTEND;TZID=America/Los_Angeles:20220210T200000
DTSTAMP:20260422T095407
CREATED:20211228T035616Z
LAST-MODIFIED:20220209T202844Z
UID:2305-1644516000-1644523200@relationalhealth-lv.org
SUMMARY:Dad Inc
DESCRIPTION:
URL:https://relationalhealth-lv.org/event/dad-inc/
END:VEVENT
BEGIN:VEVENT
DTSTART;VALUE=DATE:20220128
DTEND;VALUE=DATE:20220130
DTSTAMP:20260422T095407
CREATED:20211112T221357Z
LAST-MODIFIED:20211228T035004Z
UID:1125-1643328000-1643500799@relationalhealth-lv.org
SUMMARY:Marriage Conference
DESCRIPTION:
URL:https://relationalhealth-lv.org/event/marriage-conference/
LOCATION:CornerStone\, 5825 W. Eldora Ave.\, Las Vegas\, NV\, 89146\, United States
END:VEVENT
BEGIN:VEVENT
DTSTART;TZID=America/Los_Angeles:20220114T183000
DTEND;TZID=America/Los_Angeles:20220114T200000
DTSTAMP:20260422T095407
CREATED:20211228T073650Z
LAST-MODIFIED:20211228T073650Z
UID:2317-1642185000-1642190400@relationalhealth-lv.org
SUMMARY:You Matter: A conversation about Shame
DESCRIPTION:Kimberly will be speaking at “The Grove” at Journey Church in Kingman Arizona\, January 14th\, 2022 at 6:30pm
URL:https://relationalhealth-lv.org/event/you-matter-a-conversation-about-shame/
LOCATION:Journey Church\, Kingman\, Arizona
END:VEVENT
BEGIN:VEVENT
DTSTART;TZID=America/Los_Angeles:20220114T093000
DTEND;TZID=America/Los_Angeles:20220114T110000
DTSTAMP:20260422T095407
CREATED:20211122T212549Z
LAST-MODIFIED:20211204T042911Z
UID:1405-1642152600-1642158000@relationalhealth-lv.org
SUMMARY:Propelling Women Workshop Series
DESCRIPTION:Coffee and Curiosity will reveal your story! \nHow can 2022 be the year you build trustworthy relationships\, gain clarity of values\, and emerge as a wholehearted leader? \nEnroll in 1 or all 3 workshops! Seating is limited – sign up before it fills up! \nJanuary Workshop \nHow to build trust in all your relationships\, including your self-trust and the clear path to communicate to others when there has been a violation of trust. \nFebruary Workshop \nSetting core values professionally and personally and tips on how to live into those values. How do we know we are doing it right\, and what happens when we are in chaos? \nMarch Workshop \nHow do you show up as Daring Leaders vs. an armored leader? \n 
URL:https://relationalhealth-lv.org/event/propelling-women-workshop-series/
END:VEVENT
BEGIN:VEVENT
DTSTART;TZID=America/Los_Angeles:20220107T080000
DTEND;TZID=America/Los_Angeles:20220107T100000
DTSTAMP:20260422T095407
CREATED:20211229T010339Z
LAST-MODIFIED:20211229T010507Z
UID:2354-1641542400-1641549600@relationalhealth-lv.org
SUMMARY:Emotions & Health Relationships - 6 week class
DESCRIPTION:Emotions & Healthy Relationships – Our goal in this 6-8 week class is to give a general foundation on the importance of establishing self-awareness to help understand why we do and say what we do. We will start by understanding what emotional health looks like and work on expanding our emotional literacy besides\, happy\, sad and angry. We will learn how to acknowledge and identify what we feel\, practice self –soothing skills and learn how to communicate and manage our emotions in a healthy way. We will define  what qualifies as a boundary \, the various types and the important role they play in healthy relationships.  Many people struggle with negative thoughts that swirl in our head and become the story we tell ourselves. (Daniel Amen called them ANTs\, Automatic Negative Thoughts) These thoughts will be examined and you will be given a strategy for how to challenge the thoughts before they impact behaviors in a negative way. Participants will also take a personality profile and explore the different motives\, needs\, wants and behaviors of four personality styles.  Family of origins will be discussed\, what may run in our family\, what neuroscience says about re-wiring our brain and the hope this brings. Lastly\, we will talk about heathy habits for communicating in a relationship including Gottman’s 4 Horseman\, criticism\, defensiveness\, stone-walling and contempt and how quickly they can destroy relationships.  We may also cover establishing rituals of connections and having healthy conflict.   This is a 2 hour class. \nIf you are interested in attending this virtual class\, please contact us.
URL:https://relationalhealth-lv.org/event/emotions-health-relationships-6-week-class/
LOCATION:NVC
ORGANIZER;CN="Kimberly Malloy":MAILTO:kimberly@crh-lv.org
END:VEVENT
BEGIN:VEVENT
DTSTART;TZID=America/Los_Angeles:20211208T133000
DTEND;TZID=America/Los_Angeles:20211208T150000
DTSTAMP:20260422T095407
CREATED:20211204T042517Z
LAST-MODIFIED:20211204T042517Z
UID:1688-1638970200-1638975600@relationalhealth-lv.org
SUMMARY:Dare to Lead™ Facilitation - Faith Lutheran
DESCRIPTION:
URL:https://relationalhealth-lv.org/event/dare-to-lead-facilitation-faith-lutheran/
END:VEVENT
BEGIN:VEVENT
DTSTART;VALUE=DATE:20211122
DTEND;VALUE=DATE:20211123
DTSTAMP:20260422T095407
CREATED:20211112T224333Z
LAST-MODIFIED:20211112T224333Z
UID:1151-1637539200-1637625599@relationalhealth-lv.org
SUMMARY:Faith Lutheran Educator's Conference
DESCRIPTION:
URL:https://relationalhealth-lv.org/event/faith-lutheran-educators-conference/
END:VEVENT
BEGIN:VEVENT
DTSTART;TZID=America/Los_Angeles:20211116T113000
DTEND;TZID=America/Los_Angeles:20211116T130000
DTSTAMP:20260422T095407
CREATED:20211108T173702Z
LAST-MODIFIED:20211108T173702Z
UID:1021-1637062200-1637067600@relationalhealth-lv.org
SUMMARY:NAWBO Luncheon - Understanding the Basics of Trauma
DESCRIPTION:We are all experiencing trauma at one level or another and our trauma responses can look different in everyone. Kimberly will define trauma (individually and collectively)\, the impact it has on our body\, mind\, and spirit\, and how to recognize and address our own triggers and help those who are struggling. Our goal is to have you walk away with a greater understanding of trauma and have tools to help us heal one another as we head into the holiday season and prepare for 2022.
URL:https://relationalhealth-lv.org/event/nawbo-luncheon-understanding-the-basics-of-trauma/
LOCATION:Bonefish Grill\, 6527 S Las Vegas Blvd\, Las Vegas\, NV\, 89119\, United States
END:VEVENT
BEGIN:VEVENT
DTSTART;TZID=America/Los_Angeles:20211110T180000
DTEND;TZID=America/Los_Angeles:20211110T200000
DTSTAMP:20260422T095407
CREATED:20211108T172958Z
LAST-MODIFIED:20220213T004819Z
UID:1016-1636567200-1636574400@relationalhealth-lv.org
SUMMARY:Curiosity Starts Here
DESCRIPTION:Everyone has experienced some degree of trauma and far too many have multiple layers. We believe healthy curiosity will help heal a traumatized world! \nHealthy curiosity asks\, “I wonder what that person has experienced?” instead of “What’s wrong with that person?” \nTrauma needs to be healed in community. Learn what happens to the brain in trauma\, the brain’s predictive nature\, and the impact trauma has on our physical\, mental\, and emotional health. A caring question\, genuine empathy\, and a small act of kindness can have a major impact on a trauma survivor. \nBe curious! It could benefit someone you love. \n<div style=”\noverflow: auto;\ndisplay: flex;\nflex-direction: column;\njustify-content: flex-end;\nalign-items: center;\nwidth: 259px;\nbackground: #FFFFFF;\nborder: 1px solid rgba(0\, 0\, 0\, 0.1);\nbox-shadow: -2px 10px 5px rgba(0\, 0\, 0\, 0);\nborder-radius: 10px;\nfont-family: SQ Market\, SQ Market\, Helvetica\, Arial\, sans-serif;\n“>\n<div style=”padding: 20px;”>\n<p style=”\nfont-size: 18px;\nline-height: 20px;\n“>Weekly Women’s Group</p>\n<p style=”\nfont-size: 18px;\nline-height: 20px;\nfont-weight: 600;\n“>$45.00</p>\n<a target=”_blank” href=”https://square.link/u/gKQsNJIO?src=embed” style=”\ndisplay: inline-block;\nfont-size: 18px;\nline-height: 48px;\nheight: 48px;\ncolor: #ffffff;\nmin-width: 212px;\nbackground-color: #006aff;\ntext-align: center;\nbox-shadow: 0 0 0 1px rgba(0\,0\,0\,.1) inset;\nborder-radius: 6px;\n“>Buy now</a>\n</div>\n</div>
URL:https://relationalhealth-lv.org/event/curiosity-starts-here/
LOCATION:CornerStone\, 5825 W. Eldora Ave.\, Las Vegas\, NV\, 89146\, United States
ATTACH;FMTTYPE=image/jpeg:https://relationalhealth-lv.org/wp-content/uploads/2021/11/Curiosity-Starts-Here-November-10th.jpg
END:VEVENT
BEGIN:VEVENT
DTSTART;VALUE=DATE:20211029
DTEND;VALUE=DATE:20211031
DTSTAMP:20260422T095407
CREATED:20211015T164045Z
LAST-MODIFIED:20211015T164045Z
UID:795-1635465600-1635638399@relationalhealth-lv.org
SUMMARY:Rising Strong - Men Only
DESCRIPTION:
URL:https://relationalhealth-lv.org/event/rising-strong-men-only/
ATTACH;FMTTYPE=image/jpeg:https://relationalhealth-lv.org/wp-content/uploads/2021/10/Team-Building-Las-Vegas-2048x760-1.jpeg
END:VEVENT
END:VCALENDAR